{
 "cimVersion": "3.2.0",
 "serviceDescription": "",
 "mapName": "Historical sites and areas",
 "description": "",
 "copyrightText": "",
 "supportsDynamicLayers": false,
 "layers": [
  {
   "id": 0,
   "name": "Historical Sites Point",
   "parentLayerId": -1,
   "defaultVisibility": true,
   "subLayerIds": null,
   "minScale": 0,
   "maxScale": 0,
   "type": "Feature Layer",
   "geometryType": "esriGeometryPoint",
   "supportsDynamicLegends": true
  },
  {
   "id": 1,
   "name": "Historical Sites Area",
   "parentLayerId": -1,
   "defaultVisibility": true,
   "subLayerIds": null,
   "minScale": 0,
   "maxScale": 0,
   "type": "Feature Layer",
   "geometryType": "esriGeometryPolygon",
   "supportsDynamicLegends": true
  }
 ],
 "tables": [],
 "spatialReference": {
  "wkid": 102646,
  "latestWkid": 2230,
  "xyTolerance": 0.003280833333333333,
  "zTolerance": 0.001,
  "mTolerance": 0.001,
  "falseX": -118608900,
  "falseY": -91259500,
  "xyUnits": 3048.0060960121928,
  "falseZ": -100000,
  "zUnits": 10000,
  "falseM": -100000,
  "mUnits": 10000
 },
 "singleFusedMapCache": true,
 "tileInfo": {
  "rows": 256,
  "cols": 256,
  "dpi": 96,
  "format": "PNG",
  "compressionQuality": 0,
  "origin": {
   "x": -1.186084832119737E8,
   "y": 1.0619283300464755E8
  },
  "spatialReference": {
   "wkid": 102646,
   "latestWkid": 2230,
   "xyTolerance": 0.003280833333333333,
   "zTolerance": 0.001,
   "mTolerance": 0.001,
   "falseX": -118608900,
   "falseY": -91259500,
   "xyUnits": 3048.0060960121928,
   "falseZ": -100000,
   "zUnits": 10000,
   "falseM": -100000,
   "mUnits": 10000
  },
  "lods": [
   {
    "level": 0,
    "resolution": 977891.7959268778,
    "scale": 1.126533601974967E9
   },
   {
    "level": 1,
    "resolution": 488945.8979634389,
    "scale": 5.632668009874835E8
   },
   {
    "level": 2,
    "resolution": 244472.94898171944,
    "scale": 2.8163340049374175E8
   },
   {
    "level": 3,
    "resolution": 122236.47449085972,
    "scale": 1.4081670024687088E8
   },
   {
    "level": 4,
    "resolution": 61118.23724542986,
    "scale": 7.040835012343544E7
   },
   {
    "level": 5,
    "resolution": 30559.11862271493,
    "scale": 3.520417506171772E7
   },
   {
    "level": 6,
    "resolution": 15279.559311357465,
    "scale": 1.760208753085886E7
   },
   {
    "level": 7,
    "resolution": 7639.7796556787325,
    "scale": 8801043.76542943
   },
   {
    "level": 8,
    "resolution": 3819.8898278393663,
    "scale": 4400521.882714715
   },
   {
    "level": 9,
    "resolution": 1909.9449139196831,
    "scale": 2200260.9413573574
   },
   {
    "level": 10,
    "resolution": 954.9724569598416,
    "scale": 1100130.4706786787
   },
   {
    "level": 11,
    "resolution": 477.4862284799208,
    "scale": 550065.2353393394
   },
   {
    "level": 12,
    "resolution": 238.7431142399604,
    "scale": 275032.6176696697
   },
   {
    "level": 13,
    "resolution": 119.3715571199802,
    "scale": 137516.30883483484
   },
   {
    "level": 14,
    "resolution": 59.6857785599901,
    "scale": 68758.15441741742
   },
   {
    "level": 15,
    "resolution": 29.84288927999505,
    "scale": 34379.07720870871
   },
   {
    "level": 16,
    "resolution": 14.921444639997524,
    "scale": 17189.538604354355
   },
   {
    "level": 17,
    "resolution": 7.460722319998762,
    "scale": 8594.769302177177
   },
   {
    "level": 18,
    "resolution": 3.730361159999381,
    "scale": 4297.384651088589
   }
  ]
 },
 "storageInfo": {
  "storageFormat": "esriMapCacheStorageModeCompactV2",
  "packetSize": 128
 },
 "initialExtent": {
  "xmin": 6470760.998682424,
  "ymin": 2236548.320089042,
  "xmax": 6477688.84497207,
  "ymax": 2249195.667385257,
  "spatialReference": {
   "wkid": 102646,
   "latestWkid": 2230,
   "xyTolerance": 0.003280833333333333,
   "zTolerance": 0.001,
   "mTolerance": 0.001,
   "falseX": -118608900,
   "falseY": -91259500,
   "xyUnits": 3048.0060960121928,
   "falseZ": -100000,
   "zUnits": 10000,
   "falseM": -100000,
   "mUnits": 10000
  }
 },
 "fullExtent": {
  "xmin": 6450954.506759226,
  "ymin": 2224099.8851165622,
  "xmax": 6491359.146094143,
  "ymax": 2256366.5367904752,
  "spatialReference": {
   "wkid": 102646,
   "latestWkid": 2230,
   "xyTolerance": 0.003280833333333333,
   "zTolerance": 0.001,
   "mTolerance": 0.001,
   "falseX": -118608900,
   "falseY": -91259500,
   "xyUnits": 3048.0060960121928,
   "falseZ": -100000,
   "zUnits": 10000,
   "falseM": -100000,
   "mUnits": 10000
  }
 },
 "datesInUnknownTimezone": false,
 "units": "esriFeet",
 "supportedImageFormatTypes": "PNG32,PNG24,PNG,JPG,DIB,TIFF,EMF,PS,PDF,GIF,SVG,SVGZ,BMP",
 "documentInfo": {
  "Title": "Map",
  "Author": "",
  "Comments": "",
  "Subject": "",
  "Category": "",
  "Version": "2.9.0",
  "AntialiasingMode": "Fast",
  "TextAntialiasingMode": "Force",
  "Keywords": ""
 },
 "supportsQueryDomains": true,
 "supportedQueryFormats": "JSON, geoJSON, PBF",
 "referenceScale": 0.0,
 "datumTransformations": [
  {
   "geoTransforms": [
    {
     "wkid": 108190,
     "latestWkid": 108190,
     "transformForward": true,
     "name": "WGS_1984_(ITRF00)_To_NAD_1983"
    }
   ]
  },
  {
   "geoTransforms": [
    {
     "wkid": 108190,
     "latestWkid": 108190,
     "transformForward": false,
     "name": "WGS_1984_(ITRF00)_To_NAD_1983"
    }
   ]
  },
  {
   "geoTransforms": [
    {
     "wkid": 108190,
     "latestWkid": 108190,
     "transformForward": true,
     "name": "WGS_1984_(ITRF00)_To_NAD_1983"
    }
   ]
  },
  {
   "geoTransforms": [
    {
     "wkid": 108190,
     "latestWkid": 108190,
     "transformForward": false,
     "name": "WGS_1984_(ITRF00)_To_NAD_1983"
    }
   ]
  }
 ],
 "supportsDatumTransformation": true,
 "floorAwareMapProperties": {
  "defaultFloorFilterSettings": {
   "isEnabled": false
  }
 },
 "archivingInfo": {
  "supportsHistoricMoment": false
 },
 "supportsClipping": true,
 "supportsSpatialFilter": true,
 "supportsTimeRelation": true,
 "supportsQueryDataElements": true,
 "mapUnits": {
  "uwkid": 9003
 },
 "maxRecordCount": 1000,
 "maxImageHeight": 4096,
 "maxImageWidth": 4096,
 "currentVersion": 12.9,
 "capabilities": "TilesOnly,Tilemap",
 "minScale": 137516.30883483484,
 "maxScale": 4297.384651088589,
 "exportTilesAllowed": false,
 "maxExportTilesCount": 100000,
 "minLOD": 13,
 "maxLOD": 18,
 "supportedExtensions": "",
 "serviceItemId": "e6a0346859ff4309a98158868c2c2aaf"
}
